BEGIN:VCALENDAR
VERSION:2.0
PRODID:-//Public Knowledge - ECPv5.3.2.1//NONSGML v1.0//EN
CALSCALE:GREGORIAN
METHOD:PUBLISH
X-WR-CALNAME:Public Knowledge
X-ORIGINAL-URL:https://www.publicknowledge.org
X-WR-CALDESC:Events for Public Knowledge
BEGIN:VTIMEZONE
TZID:America/New_York
BEGIN:DAYLIGHT
TZOFFSETFROM:-0500
TZOFFSETTO:-0400
TZNAME:EDT
DTSTART:20150308T070000
END:DAYLIGHT
BEGIN:STANDARD
TZOFFSETFROM:-0400
TZOFFSETTO:-0500
TZNAME:EST
DTSTART:20151101T060000
END:STANDARD
END:VTIMEZONE
BEGIN:VEVENT
DTSTART;TZID=America/New_York:20150924T213000
DTEND;TZID=America/New_York:20150925T010000
DTSTAMP:20210728T000813
CREATED:20190904T195647Z
LAST-MODIFIED:20190904T195647Z
UID:16547-1443130200-1443142800@www.publicknowledge.org
SUMMARY:12th Annual IP3 Awards
DESCRIPTION:
URL:https://www.publicknowledge.org/event/12th-annual-ip3-awards/
END:VEVENT
END:VCALENDAR