BEGIN:VCALENDAR
VERSION:2.0
PRODID:-//Public Knowledge - ECPv5.3.2.1//NONSGML v1.0//EN
CALSCALE:GREGORIAN
METHOD:PUBLISH
X-WR-CALNAME:Public Knowledge
X-ORIGINAL-URL:https://www.publicknowledge.org
X-WR-CALDESC:Events for Public Knowledge
BEGIN:VTIMEZONE
TZID:America/New_York
BEGIN:DAYLIGHT
TZOFFSETFROM:-0500
TZOFFSETTO:-0400
TZNAME:EDT
DTSTART:20200308T070000
END:DAYLIGHT
BEGIN:STANDARD
TZOFFSETFROM:-0400
TZOFFSETTO:-0500
TZNAME:EST
DTSTART:20201101T060000
END:STANDARD
END:VTIMEZONE
BEGIN:VEVENT
DTSTART;TZID=America/New_York:20201029T140000
DTEND;TZID=America/New_York:20201029T150000
DTSTAMP:20210628T031648
CREATED:20201022T162749Z
LAST-MODIFIED:20201022T162749Z
UID:21470-1603980000-1603983600@www.publicknowledge.org
SUMMARY:Broadband Network Reliability: Are "Best Efforts" Sufficient in the Digital Era?
DESCRIPTION:                                                                 \n  \nHistorically\, the internet is a “best efforts” service. Subscribers knowingly accept the risk of outages at any time as a condition of using the network. Today\, access to reliable broadband has become an essential cornerstone of the economy\, education\, and public safety. The COVID-19 pandemic has increased our reliance on broadband even further while regulated legacy telephone networks are being phased out. Is the industry keeping pace with these changes? Or is it time to impose reliability regulations of some kind on broadband networks? \nOur expert panel will discuss both the current state of broadband network reliability and whether we need a new\, more regulatory approach. What safeguards are already in place either at the state level or the federal level? How is the industry keeping up with the challenge of COVID-19 induced demand surges and increasingly extreme weather events? If we need a new approach\, should we model it on traditional utility reliability regulation\, or do we need something different? \nSpeakers: \nRegina Costa – Telecommunications Policy Director\, TURN \nTravis Litman – Chief of Staff to FCC Commissioner Rosenworcel \nSvetlana Matt – Legislative Director\, Office of Rep. Jerry McNerny (D-CA) \nFrancella Ochillo – Executive Director\, Next Century Cities \nTom Power – SVP and General Counsel\, CTIA \nModerator: \nHarold Feld – Senior Vice-President\, Public knowledge \nWe will send call-in information to registrants in advance of the webinar
URL:https://www.publicknowledge.org/event/broadband-network-reliability-are-best-efforts-sufficient-in-the-digital-era/
LOCATION:Online
ORGANIZER;CN="Public%20Knowledge":MAILTO:pk@publicknowledge.org
END:VEVENT
END:VCALENDAR