BEGIN:VCALENDAR
VERSION:2.0
PRODID:-//Public Knowledge - ECPv5.3.2.1//NONSGML v1.0//EN
CALSCALE:GREGORIAN
METHOD:PUBLISH
X-WR-CALNAME:Public Knowledge
X-ORIGINAL-URL:https://www.publicknowledge.org
X-WR-CALDESC:Events for Public Knowledge
BEGIN:VTIMEZONE
TZID:America/New_York
BEGIN:DAYLIGHT
TZOFFSETFROM:-0500
TZOFFSETTO:-0400
TZNAME:EDT
DTSTART:20150308T070000
END:DAYLIGHT
BEGIN:STANDARD
TZOFFSETFROM:-0400
TZOFFSETTO:-0500
TZNAME:EST
DTSTART:20151101T060000
END:STANDARD
END:VTIMEZONE
BEGIN:VEVENT
DTSTART;TZID=America/New_York:20150529T190000
DTEND;TZID=America/New_York:20150529T200000
DTSTAMP:20210728T000839
CREATED:20190904T195647Z
LAST-MODIFIED:20190904T195647Z
UID:16549-1432926000-1432929600@www.publicknowledge.org
SUMMARY:Webinar with Edison Lanza\, Special Rapporteur for Freedom of Expression at the OAS
DESCRIPTION:
URL:https://www.publicknowledge.org/event/webinar-with-edison-lanza-special-rapporteur-for-freedom-of-expression-at-the-oas/
END:VEVENT
END:VCALENDAR